Workbook

Sheet TỔNG HỢP
A1: TRƯỜNG CAO ĐẲNG LÝ TỰ TRỌNG THÀNH PHỐ HỒ CHÍ MINH CÂU LẠC BỘ XANH | C1: CỘNG HÒA XÃ HỘI CHỦ NGHĨA VIỆT NAM Độc lập - Tự do - Hạnh phúc
A3: THỐNG KÊ DANH SÁCH CB-GV-NV THAM GIA CLB XANH
A4: (Danh sách được tổng hợp lúc 18h00 ngày 1/20/2019)
A6: STT | B6: HOẠT ĐỘNG | C6: CB-GV-NV | D6: SINH VIÊN | E6: TỔNG
A7: 1 | B7: Hoạt động thiện nguyện xanh | C7: =COUNTIF('CB-GV-NV'!B7:E46,"Hoạt động thiện nguyện xanh") -> 8 | D7: =COUNTIF('HOẠT ĐỘNG THIỆN NGUYỆN XANH'!B7:H75,"Hoạt động thiện nguyện xanh") -> 56 | E7: =C7+D7 -> 64
A8: =A7+1 -> 2 | B8: Hoạt động nghiên cứu | C8: =COUNTIF('CB-GV-NV'!B7:E46,"Hoạt động nghiên cứu") -> 14 | D8: =COUNTIF('HOẠT ĐỘNG NGHIÊN CỨU'!B7:H69,"Hoạt động nghiên cứu") -> 26 | E8: =C8+D8 -> 40
A9: =A8+1 -> 3 | B9: Hoạt động giao lưu và ngoại khóa | C9: =COUNTIF('CB-GV-NV'!B7:E46,"Hoạt động giao lưu và ngoại khóa") -> 8 | D9: =COUNTIF('HOẠT ĐỘNG GIAO LƯU- NGOẠI KHÓA'!B7:H90,"Hoạt động giao lưu và ngoại khóa") -> 65 | E9: =C9+D9 -> 73
A10: =A9+1 -> 4 | B10: Hoạt động tuyên truyền | C10: =COUNTIF('CB-GV-NV'!B7:E46,"Hoạt động tuyên truyền") -> 10 | D10: =COUNTIF('HOẠT ĐỘNG TUYÊN TRUYÊN'!B7:H50,"Hoạt động tuyên truyền") -> 21 | E10: =C10+D10 -> 31
B11: TỔNG THÀNH VIÊN | C11: =SUM(C7:C10) -> 40 | D11: =SUM(D7:D10) -> 168 | E11: =SUM(E7:E10) -> 208

Sheet CB-GV-NV
A1: TRƯỜNG CAO ĐẲNG LÝ TỰ TRỌNG THÀNH PHỐ HỒ CHÍ MINH CÂU LẠC BỘ XANH | D1: CỘNG HÒA XÃ HỘI CHỦ NGHĨA VIỆT NAM Độc lập - Tự do - Hạnh phúc
A3: DANH SÁCH CB-GV-NV THAM GIA CLB XANH
A4: (Danh sách được tổng hợp lúc 18h00 ngày 1/20/2019)
A6: STT | B6: HỌ VÀ TÊN | C6: ĐƠN VỊ | D6: SĐT | E6: HOẠT ĐỘNG ĐĂNG KÝ THAM GIA | F6: 19-10-19
A7: 1 | B7: HỒ NGỌC CHI | C7: Khoa CNTT | D7: 0988551295 | E7: Hoạt động tuyên truyền
A8: =A7+1 -> 2 | B8: PHẠM THỊ VINH | C8: Khoa LLCT | D8: 0917808159 | E8: Hoạt động tuyên truyền | F8: x
A9: =A8+1 -> 3 | B9: NGUYỄN THANH VĨNH PHÚC | C9: Khoa Cơ khí | D9: 0388191979 | E9: Hoạt động thiện nguyện xanh
A10: =A9+1 -> 4 | B10: NGUYỄN THANH GIANG | C10: Khoa Cơ khí | D10: 0962138518 | E10: Hoạt động giao lưu và ngoại khóa
A11: =A10+1 -> 5 | B11: VU QUANG KHAI | C11: Khoa Cơ khí | D11: 0908598884 | E11: Hoạt động giao lưu và ngoại khóa
A12: =A11+1 -> 6 | B12: NGUYỄN KHẮC HUY | C12: Khoa Cơ khí | D12: 0767854727 | E12: Hoạt động giao lưu và ngoại khóa | F12: x
A13: =A12+1 -> 7 | B13: NGUYỄN THỊ THANH TÚ | C13: Khoa KHCB | D13: 0908255177 | E13: Hoạt động nghiên cứu | F13: X PH
A14: =A13+1 -> 8 | B14: ĐỖ THỊ THƠM | C14: Khoa LLCT | D14: 0988610883 | E14: Hoạt động thiện nguyện xanh
A15: =A14+1 -> 9 | B15: DƯƠNG ĐỨC KIÊN | C15: Khoa KHCB | D15: 0904884585 | E15: Hoạt động nghiên cứu
A16: =A15+1 -> 10 | B16: NGUYỄN THỊ THỦY | C16: Khoa KHCB | D16: 0915226062 | E16: Hoạt động nghiên cứu | F16: x
A17: =A16+1 -> 11 | B17: NGUYỄN THI THU TÂM | C17: Khoa KHCB | D17: 0774121076 | E17: Hoạt động nghiên cứu
A18: =A17+1 -> 12 | B18: GIANG PHI HÙNG | C18: Khoa KHCB | D18: 0906151733 | E18: Hoạt động nghiên cứu
A19: =A18+1 -> 13 | B19: VÕ THỊ HỒNG LAN | C19: Khoa KHCB | D19: 0919748478 | E19: Hoạt động nghiên cứu | F19: x
A20: =A19+1 -> 14 | B20: TRẦN THỊ ÁNH TUYẾT | C20: Khoa KHCB | D20: 0983024006 | E20: Hoạt động tuyên truyền | F20: x
A21: =A20+1 -> 15 | B21: LÊ MINH PHONG | C21: Khoa KHCB | D21: 0915999681 | E21: Hoạt động giao lưu và ngoại khóa | F21: x
A22: =A21+1 -> 16 | B22: NGUYỄN THỊ HUYỀN NGA | C22: Khoa KHCB | D22: 0969191166 | E22: Hoạt động nghiên cứu
A23: =A22+1 -> 17 | B23: LÊ THỊ MAI HƯỜNG | C23: Khoa LLCT | D23: 0932187118 | E23: Hoạt động tuyên truyền
A24: =A23+1 -> 18 | B24: LÊ THỊ HỒNG VÂN | C24: Khoa LLCT | D24: 0909587886 | E24: Hoạt động tuyên truyền | F24: x
A25: =A24+1 -> 19 | B25: NGUYỄN MỸ TIÊN | C25: Khoa Kinh tế | D25: 0917657076 | E25: Hoạt động nghiên cứu | F25: x
A26: =A25+1 -> 20 | B26: LÊ XUÂN THỦY | C26: Khoa Kinh tế | D26: 0902399277 | E26: Hoạt động nghiên cứu | F26: x
A27: 21 | B27: TRẦN THỊ NGỌC DUNG | C27: Khoa Kinh tế | D27: 0917238738 | E27: Hoạt động nghiên cứu
A28: 22 | B28: PHAN THỊ THÙY TRANG | C28: Khoa LLCT | D28: 0937073634 | E28: Hoạt động thiện nguyện xanh | F28: x
A29: =A28+1 -> 23 | B29: NGUYỄN NGỌC QUỲNH | C29: Khoa LLCT | D29: 0983537391 | E29: Hoạt động tuyên truyền | F29: x
A30: =A29+1 -> 24 | B30: BÙI THÀNH DŨNG | C30: Khoa LLCT | D30: 0917901394 | E30: Hoạt động tuyên truyền | F30: x
A31: =A30+1 -> 25 | B31: CAO THỊ HỒNG THẮM | C31: Khoa LLCT | D31: 0979798838 | E31: Hoạt động thiện nguyện xanh | F31: x
A32: =A31+1 -> 26 | B32: ĐỖ THỊ NGÁT | C32: Khoa LLCT | D32: 0975354804 | E32: Hoạt động giao lưu và ngoại khóa | F32: x
A33: =A32+1 -> 27 | B33: TRẦN THỊ HỒNG THU | C33: Khoa LLCT | D33: 0987799200 | E33: Hoạt động giao lưu và ngoại khóa | F33: x
A34: =A33+1 -> 28 | B34: HOÀNG THỊ TRANG | C34: Khoa LLCT | D34: 039.807.3873 | E34: Hoạt động tuyên truyền | F34: x
A35: =A34+1 -> 29 | B35: LÊ THỊ PHƯƠNG THẢO | C35: Khoa May - Thời trang | D35: 0901371719 | E35: Hoạt động giao lưu và ngoại khóa | F35: x
A36: =A35+1 -> 30 | B36: NGUYỄN THỊ THANH TÚ | C36: Khoa Ngoại ngữ | D36: 0932482715 | E36: Hoạt động nghiên cứu
A37: =A36+1 -> 31 | B37: LÊ NGUYỄN MỸ TRÂM | C37: Khoa Ngoại ngữ | D37: 0909853707 | E37: Hoạt động tuyên truyền
A38: =A37+1 -> 32 | B38: VƯƠNG THANH THỦY | C38: Khoa Ngoại ngữ | D38: 0903934422 | E38: Hoạt động nghiên cứu | F38: x
A39: =A38+1 -> 33 | B39: ĐẶNG THỊ NHẬT MINH | C39: Phòng CT CT-HSSV | D39: 0918704826 | E39: Hoạt động nghiên cứu | F39: x
A40: =A39+1 -> 34 | B40: PHẠM THỊ LÊ CHI | C40: Phòng CT CT-HSSV | D40: 0909450818 | E40: Hoạt động thiện nguyện xanh | F40: x
A41: =A40+1 -> 35 | B41: NGUYỄN YẾN NHI | C41: Phòng KT ĐBCL | D41: 0984192452 | E41: Hoạt động thiện nguyện xanh
A42: =A41+1 -> 36 | B42: VŨ THỊ THU THUỶ | C42: Phòng KT ĐBCL | D42: 0938287689 | E42: Hoạt động thiện nguyện xanh
A43: =A42+1 -> 37 | B43: NGUYỄN NGỌC TRANG | C43: Phòng QLKH-HTQT | D43: 0908456241 | E43: Hoạt động nghiên cứu
A44: =A43+1 -> 38 | B44: HUỲNH THỊ CẨM HOA | C44: Phòng QLKH-HTQT | D44: 0933900383 | E44: Hoạt động thiện nguyện xanh | F44: x
A45: =A44+1 -> 39 | B45: TRƯƠNG THỊ HỒNG | C45: Tổ TT-PC | D45: 0468764195 | E45: Hoạt động tuyên truyền | F45: x
A46: =A45+1 -> 40 | B46: PHẠM MINH NGHĨA | C46: Tổ TT-PC | D46: 903348055 | E46: Hoạt động giao lưu và ngoại khóa
A47: 41 | B47: ĐINH THỊ HUYÊN | C47: Khoa LLCT | D47: 0975902369 | E47: Hoạt động thiện nguyện xanh | F47: x
A48: 42 | B48: ĐINH THỊ HUYÊN | C48: Khoa LLCT | D48: 0975902369 | E48: Hoạt động thiện nguyện xanh | F48: x
A49: 43 | B49: LƯU THỊ THÚY | C49: Khoa Kinh tế | D49: 0964387979 | E49: Hoạt động nghiên cứu | F49: x
A50: 44 | B50: VÕ THỊ KIM THƯ | C50: Khoa Kinh tế | D50: 0973171638 | E50: Hoạt động nghiên cứu | F50: x
A51: 45 | B51: NGUYỄN BẠCH CẨM DUNG | C51: Khoa May - Thời trang | D51: 0901332377 | E51: Hoạt động giao lưu và ngoại khóa
A52: 46 | B52: PHẠM THỊ THANH THÚY | C52: Khoa May - Thời trang | D52: 0907565615 | E52: Hoạt động giao lưu và ngoại khóa
A53: 47 | B53: PHẠM QUỲNH NHƯ | C53: Khoa Kinh tế | D53: 0917737028 | E53: Hoạt động nghiên cứu
A54: 48 | B54: TRỊNH HOÀNG HIỆP | C54: Khoa Kinh tế | D54: 0903383668 | E54: Hoạt động nghiên cứu

Sheet HOẠT ĐỘNG TUYÊN TRUYÊN
A1: TRƯỜNG CAO ĐẲNG LÝ TỰ TRỌNG THÀNH PHỐ HỒ CHÍ MINH CÂU LẠC BỘ XANH | E1: CỘNG HÒA XÃ HỘI CHỦ NGHĨA VIỆT NAM Độc lập - Tự do - Hạnh phúc
A3: DANH SÁCH SV THAM GIA CLB XANH Hoạt động tuyên truyền
A4: (Danh sách được tổng hợp lúc 18h00 ngày 1/20/2019)
A6: STT | B6: HỌ VÀ TÊN | C6: MSSV | D6: LỚP | E6: SĐT | F6: KHOA | G6: HOẠT ĐỘNG ĐĂNG KÝ THAM GIA | H6: 19-10-19
A7: 1 | B7: PHÙNG QUỐC DUY | C7: 17000721 | D7: 17T4-TKW1 | E7: 0377270556 | F7: Khoa CNTT | G7: Hoạt động tuyên truyền
A8: =A7+1 -> 2 | B8: QUÁCH HUỆ BỀN | C8: 18005334 | D8: 18T4-LTM1 | E8: 0965910197 | F8: Khoa CNTT | G8: Hoạt động tuyên truyền | H8: x
A9: =A8+1 -> 3 | B9: NGUYỄN TIẾN HOÀNG | C9: 18002433 | D9: 18C1-ĐCN1 | E9: 0766867293 | F9: Khoa Điện - Điện tử | G9: Hoạt động tuyên truyền
A10: =A9+1 -> 4 | B10: DƯƠNG ĐĂNG HƯNG | C10: 18001289 | D10: 18T4-CNÔ5 | E10: 0372525145 | F10: Khoa Động lực | G10: Hoạt động tuyên truyền
A11: =A10+1 -> 5 | B11: BÙI VĂN THÔNG | C11: 18002595 | D11: 18C1-CNO12 | E11: 0774753884 | F11: Khoa Động lực | G11: Hoạt động tuyên truyền
A12: =A11+1 -> 6 | B12: TRƯƠNG NGỌC ÂN | C12: 18002508 | D12: 18C1 CNO11 | E12: 0943753482 | F12: Khoa Động lực | G12: Hoạt động tuyên truyền
A13: =A12+1 -> 7 | B13: TRẦN THỊ TUYẾT MAI | C13: 18000336 | D13: 18T4-KTD1 | E13: 0329832556 | F13: Khoa Kinh tế | G13: Hoạt động tuyên truyền
A14: =A13+1 -> 8 | B14: TẠ NGỌC PHONG DUY | C14: 18000987 | D14: 18T4-NNA2 | E14: 081492585 | F14: Khoa Ngoại ngữ | G14: Hoạt động tuyên truyền
A15: =A14+1 -> 9 | B15: VÕ THỊ LỆ THU | C15: 19004079 | D15: 19C1-NNA1 | E15: 0369605463 | F15: Khoa Ngoại ngữ | G15: Hoạt động tuyên truyền
A16: =A15+1 -> 10 | B16: NGUYỄN LÊ MINH TRANG | C16: 18000782 | D16: 18T4-NNA2 | E16: 0931891684 | F16: Khoa Ngoại ngữ | G16: Hoạt động tuyên truyền
A17: =A16+1 -> 11 | B17: NGUYỄN LÊ MINH TRANG | C17: 18000782 | D17: 18T4-NNA2 | E17: 0931891684 | F17: Khoa Ngoại ngữ | G17: Hoạt động tuyên truyền
A18: =A17+1 -> 12 | B18: TĂNG NGUYỄN THÙY ANH | C18: 18001078 | D18: 18T4-NNA2 | E18: 909411493 | F18: Khoa Ngoại ngữ | G18: Hoạt động tuyên truyền
A19: =A18+1 -> 13 | B19: LÊ HOÀNG HUY | C19: 19001251 | D19: 19C1-LĐL1 | E19: 0372561348 | F19: Khoa Nhiệt lạnh | G19: Hoạt động tuyên truyền
A20: =A19+1 -> 14 | B20: LÊ HOÀNG HUY | C20: 19001251 | D20: 19C1-LĐL1 | E20: 0372561348 | F20: Khoa Nhiệt lạnh | G20: Hoạt động tuyên truyền
A21: =A20+1 -> 15 | B21: NGUYỄN ĐÌNH LỰC | C21: 19004708 | D21: 19T4-KML1 | E21: 0985072311 | F21: Khoa Nhiệt lạnh | G21: Hoạt động tuyên truyền
A22: =A21+1 -> 16 | B22: ĐỖ TIẾN SỸ | C22: 19001599 | D22: 19T4-KML1 | E22: 0928158188 | F22: Khoa Nhiệt lạnh | G22: Hoạt động tuyên truyền
A23: =A22+1 -> 17 | B23: VŨ XUÂN BÁCH | C23: 19001648 | D23: 19T4-KML1 | F23: Khoa Nhiệt lạnh | G23: Hoạt động tuyên truyền
A24: =A23+1 -> 18 | B24: HUỲNH NGỌC PHÚC | C24: 19001579 | D24: 19T4-KML1 | E24: 0902721062 | F24: Khoa Nhiệt lạnh | G24: Hoạt động tuyên truyền
A25: =A24+1 -> 19 | B25: TRẦN THIỆN NHÂN | C25: 19002159 | D25: 19T4-KML1 | E25: 0944658380 | F25: Khoa Nhiệt lạnh | G25: Hoạt động tuyên truyền
A26: =A25+1 -> 20 | B26: NGUYỄN SỸ NGUYÊN | C26: 19003746 | D26: 19T4-KML1 | E26: 0941725868 | F26: Khoa Nhiệt lạnh | G26: Hoạt động tuyên truyền
A27: =A26+1 -> 21 | B27: HUỲNH QUỐC TÀI | C27: 19000274 | D27: 19T4-KML1 | E27: 0356244217 | F27: Khoa Nhiệt lạnh | G27: Hoạt động tuyên truyền
A28: =A27+1 -> 22 | B28: PHẠM THÀNH TRUNG | C28: 18004339 | D28: 18T4-LTM1 | E28: 0395933852 | F28: CNTT | H28: x
A29: =A28+1 -> 23 | B29: NGÔ HOÀNG KHANG | C29: 18000034 | D29: 18T4-LTM1 | E29: 0902970793 | F29: CNTT | H29: x
A30: =A29+1 -> 24 | B30: NGUYỄN PHẠM THANH VŨ | C30: 19005007 | D30: 19T4TKW1 | H30: x
A31: =A30+1 -> 25 | B31: NGUYỄN NGỌC MINH | C31: 19000270 | D31: 19C1CMT1 | H31: x
A32: =A31+1 -> 26 | B32: NGUYỄN LĂNG PHƯỚC AN | C32: 19000592 | D32: 19T4CTM1 | H32: x
A33: =A32+1 -> 27 | B33: NGUYỄN NGỌC THÀNH TRÍ | C33: 18001056 | D33: 18T4TKD1 | H33: x
A34: =A33+1 -> 28 | B34: HOÀNG HỮU QUỐC HUY | C34: 18001058 | D34: 18T4TKD1 | H34: x
A35: =A34+1 -> 29 | B35: NGUYỄN HÙNG PHÁT | C35: 18001190 | D35: 18T4TKD1 | H35: x
A36: =A35+1 -> 30 | B36: HỒNG CHÂU HOÀNG | C36: 18000434 | D36: 18T4TKD1 | H36: x
A37: =A36+1 -> 31 | B37: VÕ TRẦN HỢP TIẾN | C37: 18000516 | D37: 18T4TKD1 | H37: x
A38: =A37+1 -> 32 | B38: NGUYỄN THANH TRUNG | C38: 19000066 | D38: 19T4LTM1 | H38: x
A39: =A38+1 -> 33 | B39: LÊ TÀO TUYẾT NHI | C39: 18005000 | D39: 18C1KTD1 | H39: x

Sheet HOẠT ĐỘNG NGHIÊN CỨU
A1: TRƯỜNG CAO ĐẲNG LÝ TỰ TRỌNG THÀNH PHỐ HỒ CHÍ MINH CÂU LẠC BỘ XANH | E1: CỘNG HÒA XÃ HỘI CHỦ NGHĨA VIỆT NAM Độc lập - Tự do - Hạnh phúc
A3: DANH SÁCH SV THAM GIA CLB XANH Hoạt động nghiên cứu
A4: (Danh sách được tổng hợp lúc 18h00 ngày 1/20/2019)
A6: STT | B6: HỌ VÀ TÊN | C6: MSSV | D6: LỚP | E6: SĐT | F6: KHOA | G6: HOẠT ĐỘNG ĐĂNG KÝ THAM GIA | H6: 19-10-19
A7: 1 | B7: NGUYỄN THANH TRUNG | C7: 19000066 | D7: 19T4-LTM1 | E7: 0938963099 | F7: Khoa CNTT | G7: Hoạt động nghiên cứu | H7: x
A8: =A7+1 -> 2 | B8: NGUYỄN LĂNG PHƯỚC AN | C8: 19000592 | D8: 19T4-LTM1 | E8: 0783624541 | F8: Khoa CNTT | G8: Hoạt động nghiên cứu | H8: x
A9: =A8+1 -> 3 | B9: DƯƠNG VĨNH KHANG | C9: 1900492 | D9: 19T4-LTM1 | E9: 0981814415 | F9: Khoa CNTT | G9: Hoạt động nghiên cứu | H9: x
A10: =A9+1 -> 4 | B10: NGUYỄN NGỌC KHÔI | C10: 18001382 | D10: 18C1-ĐĐT1 | E10: 0377421352 | F10: Khoa Điện - Điện tử | G10: Hoạt động nghiên cứu
A11: =A10+1 -> 5 | B11: ĐẶNG PHÚC ĐẠI | C11: 19001085 | D11: 19C1-ĐCN1 | E11: 0889972803 | F11: Khoa Điện - Điện tử | G11: Hoạt động nghiên cứu
A12: =A11+1 -> 6 | B12: LÊ ĐÌNH TRUNG DŨNG | C12: 19001150 | D12: 19T4-CNÔ5 | E12: 0354022498 | F12: Khoa Động lực | G12: Hoạt động nghiên cứu
A13: =A12+1 -> 7 | B13: VÕ MINH PHƯƠNG | C13: 18003205 | D13: 18C1-CNÔ12 | E13: 0979860264 | F13: Khoa Động lực | G13: Hoạt động nghiên cứu
A14: =A13+1 -> 8 | B14: VÕ MINH PHƯƠNG | C14: 18003205 | D14: 18C1-CNÔ12 | E14: 0979860264 | F14: Khoa Động lực | G14: Hoạt động nghiên cứu
A15: =A14+1 -> 9 | B15: PHẠM THẾ HIỂN | C15: 18002550 | D15: 18C1-CNÔ12 | E15: 0946882420 | F15: Khoa Động lực | G15: Hoạt động nghiên cứu
A16: =A15+1 -> 10 | B16: NGUYỄN BẢO HOÀNG | C16: 18002684 | D16: 18C1-CNO12 | E16: 0373752049 | F16: Khoa Động lực | G16: Hoạt động nghiên cứu
A17: =A16+1 -> 11 | B17: VÕ HẢI ANH | C17: 1800-1007 | D17: 18T4-NNA2 | E17: 0763418161 | F17: Khoa KHCB | G17: Hoạt động nghiên cứu
A18: =A17+1 -> 12 | B18: HUỲNH NGUYỄN KIM NGÂN | C18: 18003636 | D18: 18C1-CNM1 | E18: 0967043902 | F18: Khoa May - Thời trang | G18: Hoạt động nghiên cứu
A19: =A18+1 -> 13 | B19: PHẠM THỊ QUẾ NHI | C19: 18002391 | D19: 18C1-CNM1 | E19: 0356127990 | F19: Khoa May - Thời trang | G19: Hoạt động nghiên cứu
A20: =A19+1 -> 14 | B20: TRẦN CÔNG MINH | C20: 19001432 | D20: 19T4-VSL1 | E20: 0765630923 | F20: Khoa Nhiệt lạnh | G20: Hoạt động nghiên cứu
A21: =A20+1 -> 15 | B21: NGÔ NHẬT HÀO | C21: 19004595 | D21: 19T4-VSL1 | E21: 0399955312 | F21: Khoa Nhiệt lạnh | G21: Hoạt động nghiên cứu
... A32: =A31+1 -> 26 | B32: TRẦN ANH HUY | C32: 19000831 | D32: 19T4-VSL1 | E32: 09719895057 | F32: Khoa Nhiệt lạnh | G32: Hoạt động nghiên cứu

Sheet HOẠT ĐỘNG THIỆN NGUYỆN XANH
A1: TRƯỜNG CAO ĐẲNG LÝ TỰ TRỌNG THÀNH PHỐ HỒ CHÍ MINH CÂU LẠC BỘ XANH | E1: CỘNG HÒA XÃ HỘI CHỦ NGHĨA VIỆT NAM Độc lập - Tự do - Hạnh phúc
A3: DANH SÁCH SV THAM GIA CLB XANH Hoạt động thiện nguyện xanh
A4: (Danh sách được tổng hợp lúc 18h00 ngày 1/10/2019)
A6: STT | B6: HỌ VÀ TÊN | C6: MSSV | D6: LỚP | E6: SĐT | F6: KHOA | G6: HOẠT ĐỘNG ĐĂNG KÝ THAM GIA | H6: 19-10-19
A7: 1 | B7: LÊ CÔNG HUY | C7: 18000779 | D7: 18T4-LTM1 | E7: 079 433 7163 | F7: Khoa CNTT | G7: Hoạt động thiện nguyện xanh
A8: =A7+1 -> 2 | B8: NGUYỄN THỊ HOÀI THƯƠNG | C8: 18000342 | D8: 18T4 - TKĐ1 | E8: 09672077976 | F8: Khoa CNTT | G8: Hoạt động thiện nguyện xanh | H8: x
A9: =A8+1 -> 3 | B9: LÂM TUẤN PHONG | C9: 18001347 | D9: 18T4 - TKĐ1 | E9: 09037967730 | F9: Khoa CNTT | G9: Hoạt động thiện nguyện xanh | H9: x
A10: =A9+1 -> 4 | B10: NGUYỄN TIẾN ĐĂNG KHOA | C10: 18000942 | D10: 18T4 - TKĐ1 | E10: 0934795546 | F10: Khoa CNTT | G10: Hoạt động thiện nguyện xanh
A11: =A10+1 -> 5 | B11: NGUYỄN NHẬT TÂN | C11: 18000832 | D11: 18T4 - TKĐ1 | E11: 0968092335 | F11: Khoa CNTT | G11: Hoạt động thiện nguyện xanh
A12: =A11+1 -> 6 | B12: NGUYỄN HOÀNG XUÂN TRƯỜNG | C12: 18000731 | D12: 18T4 - TKDĐ1 | E12: 0934947671 | F12: Khoa CNTT | G12: Hoạt động thiện nguyện xanh
A13: =A12+1 -> 7 | B13: VÕ TRẦN HỢP TIẾN | C13: 18000516 | D13: 18T4 - TKĐ1 | E13: 0346404424 | F13: Khoa CNTT | G13: Hoạt động thiện nguyện xanh | H13: x
A14: =A13+1 -> 8 | B14: TRẦN BẢO TRÍ | C14: 18000510 | D14: 18T4 - TKĐ1 | E14: 0917994279 | F14: Khoa CNTT | G14: Hoạt động thiện nguyện xanh
A15: =A14+1 -> 9 | B15: HỒNG CHÂU HOÀN | C15: 18000434 | D15: 18T4 - TKĐ1 | E15: 0915274872 | F15: Khoa CNTT | G15: Hoạt động thiện nguyện xanh | H15: x
A16: =A15+1 -> 10 | B16: HÀ VÕ PHƯƠNG ANH | C16: 18005264 | D16: 18T4 - TKDĐ1 | E16: 0386036520 | F16: Khoa CNTT | G16: Hoạt động thiện nguyện xanh
A17: =A16+1 -> 11 | B17: NGUYỄN NGỌC YẾN NHI | C17: 18001018 | D17: 18T4 - TKĐ1 | E17: 0386036520 | F17: Khoa CNTT | G17: Hoạt động thiện nguyện xanh
A18: =A17+1 -> 12 | B18: NGUYỄN HỮU ĐẠT | C18: 18005710 | D18: 18T4 - TKDĐ1 | E18: 0901409029 | F18: Khoa CNTT | G18: Hoạt động thiện nguyện xanh
A19: =A18+1 -> 13 | B19: NGUYỄN NGỌC THÀNH TRÍ | C19: 18001056 | D19: 18T4 - TKĐ1 | E19: 0931793637 | F19: Khoa CNTT | G19: Hoạt động thiện nguyện xanh | H19: x
A20: =A19+1 -> 14 | B20: LÊ MINH NHẬT | C20: 18000553 | D20: 18T4 - TKĐ1 | E20: 0983188658 | F20: Khoa CNTT | G20: Hoạt động thiện nguyện xanh
A21: =A20+1 -> 15 | B21: NGUYỄN VŨ MINH QUÂN | C21: 18000871 | D21: 18T4 - TKĐ1 | E21: 0901397125 | F21: Khoa CNTT | G21: Hoạt động thiện nguyện xanh | H21: x
A22: =A21+1 -> 16 | B22: LƯƠNG NGỌC HOA BAN | C22: 18001274 | D22: 18T4 - TKDĐ1 | E22: 0903474862 | F22: Khoa CNTT | G22: Hoạt động thiện nguyện xanh | H22: x
A23: =A22+1 -> 17 | B23: HOÀNG HỮU QUỐC HUY | C23: 18001058 | D23: 18T4 - TKĐ1 | E23: 0925043565 | F23: Khoa CNTT | G23: Hoạt động thiện nguyện xanh | H23: x
A24: =A23+1 -> 18 | B24: NGUYỄN NGỌC TÀI | C24: 18000802 | D24: 18T4 - TKĐ1 | E24: 0375034409 | F24: Khoa CNTT | G24: Hoạt động thiện nguyện xanh | H24: x
A25: =A24+1 -> 19 | B25: NGUYỄN HÀ PHÚ THỊNH | C25: 18001292 | D25: 18T4 - TKĐ1 | E25: 0704914475 | F25: Khoa CNTT | G25: Hoạt động thiện nguyện xanh | H25: x
A26: =A25+1 -> 20 | B26: ĐOÀN NGHĨA | C26: 18002942 | D26: 18C1-CCK3 | E26: 0399137146 | F26: Khoa Cơ khí | G26: Hoạt động thiện nguyện xanh
A27: =A26+1 -> 21 | B27: LÃ XUÂN Ý | C27: 18002201 | D27: 18C1-CCK2 | E27: 0767750538 | F27: Khoa Cơ khí | G27: Hoạt động thiện nguyện xanh
A28: =A27+1 -> 22 | B28: LÊ VĂN HƠN | C28: 18004658 | D28: 18C1-CCK2 | E28: 0334007164 | F28: Khoa Cơ khí | G28: Hoạt động thiện nguyện xanh
A29: =A28+1 -> 23 | B29: LÊ TRUNG HẬU | C29: 18004559 | D29: 18C1-CCK2 | E29: 0377817791 | F29: Khoa Cơ khí | G29: Hoạt động thiện nguyện xanh
A30: =A29+1 -> 24 | B30: PHẠM QUỐC THUẬN | C30: 18002244 | D30: 18C1-CCK2 | E30: 0917105323 | F30: Khoa Cơ khí | G30: Hoạt động thiện nguyện xanh
A31: =A30+1 -> 25 | B31: NGUYỄN TUẤN LẠC | C31: 18002138 | D31: 18C1-CCK2 | E31: 0947329910 | F31: Khoa Cơ khí | G31: Hoạt động thiện nguyện xanh
A32: =A31+1 -> 26 | B32: VÕ THANH HẬU | C32: 18004592 | D32: 18C1-CCK2 | E32: 0379595147 | F32: Khoa Cơ khí | G32: Hoạt động thiện nguyện xanh
A33: =A32+1 -> 27 | B33: TÔ HOÀNG MINH | C33: 18005337 | D33: 18C1- CCK2 | E33: 0924518004 | F33: Khoa Cơ khí | G33: Hoạt động thiện nguyện xanh
A34: =A33+1 -> 28 | B34: NGUYỄN TẤN HƯNG | C34: SINH VIÊN | D34: 18C1-CCK2 | E34: 0347612439 | F34: Khoa Cơ khí | G34: Hoạt động thiện nguyện xanh
A35: =A34+1 -> 29 | B35: NGÔ THANH BẢO LONG | C35: SINH VIÊN | D35: 18C1-CCK2 | E35: 0961915639 | F35: Khoa Cơ khí | G35: Hoạt động thiện nguyện xanh
A36: =A35+1 -> 30 | B36: NGUYỄN ANH KIỆT | C36: SINH VIÊN | D36: 18C1-CCK2 | E36: 0906377532 | F36: Khoa Cơ khí | G36: Hoạt động thiện nguyện xanh
A37: =A36+1 -> 31 | B37: TÔ HOÀNG MINH | C37: 18005337 | D37: 18C1- CCK2 | E37: 0924518004 | F37: Khoa Cơ khí | G37: Hoạt động thiện nguyện xanh
... A50: =A49+1 -> 44 | B50: LÊ THỊ GIANG | C50: 19000334 | D50: 19T4-KTD1 | E50: 0909763656 | F50: Khoa Kinh tế | G50: Hoạt động thiện nguyện xanh
A51: =A50+1 -> 45 | B51: LÊ THỊ PHƯƠNG THẢO | C51: 18002955 | D51: 18C1-KTD2 | E51: 0919953812 | F51: Khoa Kinh tế | G51: Hoạt động thiện nguyện xanh | H51: x
A52: =A51+1 -> 46 | B52: LÊ THỊ NGỌC TƯƠI | C52: 18004956 | D52: 18C1-KTD2 | E52: 0354071282 | F52: Khoa Kinh tế | G52: Hoạt động thiện nguyện xanh | H52: x
A53: =A52+1 -> 47 | B53: PHÙNG THỊ TUYẾT OANH | C53: 18003018 | D53: 18C1-KTD2 | E53: 0333627107 | F53: Khoa Kinh tế | G53: Hoạt động thiện nguyện xanh | H53: x
A54: =A53+1 -> 48 | B54: NGUYỄN THANH THY | C54: 18002024 | D54: 18C1-KTD2 | E54: 0354091365 | F54: Khoa Kinh tế | G54: Hoạt động thiện nguyện xanh | H54: x
A55: =A54+1 -> 49 | B55: ĐINH THỊ HUYÊN | C55: 11100096279 | E55: 0975902369 | F55: Khoa LLCT | G55: Hoạt động thiện nguyện xanh
A56: =A55+1 -> 50 | B56: VÕ THỊ THANH THẢO | C56: 19002384 | D56: 19C1-CNM1 | E56: 0823245232 | F56: Khoa May - Thời trang | G56: Hoạt động thiện nguyện xanh
A57: =A56+1 -> 51 | B57: VÕ NGỌC BÍCH TRÂM | C57: 18000961 | D57: 18T4-NNA2 | E57: 0778847116 | F57: Khoa Ngoại ngữ | G57: Hoạt động thiện nguyện xanh
A58: =A57+1 -> 52 | B58: LÊ MINH ĐẠT | C58: 19001836 | D58: 19C1-KML2 | E58: 0356852533 | F58: Khoa Nhiệt lạnh | G58: Hoạt động thiện nguyện xanh
A59: =A58+1 -> 53 | B59: LÊ ĐINH ANH THI | C59: 19001296 | D59: 19T4 KML 1 | E59: 0704875292 | F59: Khoa Nhiệt lạnh | G59: Hoạt động thiện nguyện xanh
A60: =A59+1 -> 54 | B60: HỒ TRỌNG TÍNH | C60: 19001591 | D60: 19T4-VSL1 | E60: 0837376292 | F60: Khoa Nhiệt lạnh | G60: Hoạt động thiện nguyện xanh
A61: =A60+1 -> 55 | B61: NGUYỄN VĂN DUY | C61: 19001960 | D61: 19T4-KML1 | E61: 0982103708 | F61: Khoa Nhiệt lạnh | G61: Hoạt động thiện nguyện xanh
A62: =A61+1 -> 56 | B62: HỒ NGUYỄN THIỆN ĐỨC | C62: 19001359 | D62: KML1 | E62: 0966135249 | F62: Khoa Nhiệt lạnh | G62: Hoạt động thiện nguyện xanh
A63: =A62+1 -> 57 | B63: TRỊNH HỒNG VÂN | C63: 17000638 | D63: 17T4-KTD1 | E63: 0339862448 | F63: Kinh tế | H63: x
A64: =A63+1 -> 58 | B64: TRẦN HUỲNH HOA THÚY VY | C64: 17000110 | D64: 17T4-KTD1 | E64: 389908910 | F64: Kinh tế | H64: x
A65: =A64+1 -> 59 | B65: LÊ HỮU THẢO THANH | D65: 17T4-KTD1 | F65: Kinh tế | H65: x
A66: =A65+1 -> 60 | B66: NGUYỄN THÚY HIỀN | D66: 17T4-KTD1 | F66: Kinh tế | H66: x
A67: =A66+1 -> 61 | B67: NGUYỄN THỊ NGỌC TRANG | H67: x

Sheet HOẠT ĐỘNG GIAO LƯU- NGOẠI KHÓA
A1: TRƯỜNG CAO ĐẲNG LÝ TỰ TRỌNG THÀNH PHỐ HỒ CHÍ MINH CÂU LẠC BỘ XANH | E1: CỘNG HÒA XÃ HỘI CHỦ NGHĨA VIỆT NAM Độc lập - Tự do - Hạnh phúc
A3: DANH SÁCH SV THAM GIA CLB XANH Hoạt động giao lưu và ngoại khóa
A4: (Danh sách được tổng hợp lúc 18h00 ngày 1/10/2019)
A6: STT | B6: HỌ VÀ TÊN | C6: MSSV | D6: LỚP | E6: SĐT | F6: KHOA | G6: HOẠT ĐỘNG ĐĂNG KÝ THAM GIA | H6: 19-10-19
A7: 1 | B7: NGUYỄN NGỌC MINH | C7: 19000270 | D7: 19C1-CMT1 | E7: 0793313444 | F7: Khoa CNTT | G7: Hoạt động giao lưu và ngoại khóa | H7: x
A8: 2 | B8: TRẦN QUANG VINH | C8: 18000105 | D8: 18T4-LTM1 | E8: 0797912305 | F8: Khoa CNTT | G8: Hoạt động giao lưu và ngoại khóa
A9: 3 | B9: TRƯƠNG CAO NGUYÊN | C9: 18000566 | D9: 18T4-LTM1 | E9: 0963827795 | F9: Khoa CNTT | G9: Hoạt động giao lưu và ngoại khóa
A10: =A9+1 -> 4 | B10: NGUYỄN HOÀNG SƠN | C10: 18000096 | D10: 18T4-LTM1 | E10: 0931145827 | F10: Khoa CNTT | G10: Hoạt động giao lưu và ngoại khóa
A11: 4 | B11: QUACH HUE BEN | C11: 18005334 | D11: 18T4-LTM1 | E11: 0965910197 | F11: Khoa CNTT | G11: Hoạt động giao lưu và ngoại khóa
A12: 5 | B12: HUỲNH TUẤN VŨ | C12: 18001095 | D12: 18T4-LTM1 | E12: 0586880763 | F12: Khoa CNTT | G12: Hoạt động giao lưu và ngoại khóa
A13: 6 | B13: TRẦN HÙNG VĂN | C13: 18001067 | D13: 18T4 - TKĐ1 | E13: 0582399234 | F13: Khoa CNTT | G13: Hoạt động giao lưu và ngoại khóa
A14: =A13+1 -> 7 | B14: NGUYỄN PHẠM THANH VŨ | C14: 19005007 | D14: 19T14-TKW1 | E14: 0961175147 | F14: Khoa CNTT | G14: Hoạt động giao lưu và ngoại khóa
A15: 7 | B15: VŨ TRƯỜNG KHANH | C15: 19000014 | D15: 19T4-LTM1 | E15: 0963291374 | F15: Khoa CNTT | G15: Hoạt động giao lưu và ngoại khóa | H15: x
A16: 8 | B16: ĐẶNG BẢO DUY | C16: 18000178 | D16: 18T4-ANM1 | E16: 0782550142 | F16: Khoa CNTT | G16: Hoạt động giao lưu và ngoại khóa | H16: có h học
A17: 9 | B17: NGÔ ĐỨC MINH | C17: 18000899 | D17: 18T4-LTM1 | E17: 0703467769 | F17: Khoa CNTT | G17: Hoạt động giao lưu và ngoại khóa
A18: =A17+1 -> 10 | B18: HỨA ĐĂNG KHÔI | C18: 18003420 | D18: 18T4-CKC1 | E18: 0333252758 | F18: Khoa Cơ khí | G18: Hoạt động giao lưu và ngoại khóa
A19: 11 | B19: TRẦN LƯU ĐĂNG KHOA | C19: 18001221 | D19: 18T4-CCK1 | E19: 0938380743 | F19: Khoa Cơ khí | G19: Hoạt động giao lưu và ngoại khóa
A20: 12 | B20: NGUYỄN VĂN HƯNG | C20: 18004557 | D20: 18C1_CCK2 | E20: 0961746280 | F20: Khoa Cơ khí | G20: Hoạt động giao lưu và ngoại khóa
A21: 13 | B21: MAI THANH SANG | C21: 18004560 | D21: 18C1-CTM1 | E21: 0965724558 | F21: Khoa Cơ khí | G21: Hoạt động giao lưu và ngoại khóa
A22: =A21+1 -> 14 | B22: LA CÔNG DANH | C22: 18003607 | D22: 18C1-CTM1 | E22: 0338991304 | F22: Khoa Cơ khí | G22: Hoạt động giao lưu và ngoại khóa
A23: 15 | B23: PHẠM THANH THẮNG | C23: 18004441 | D23: 18C1-CCK7 | E23: 0902900871 | F23: Khoa Cơ khí | H23: x
A24: 16 | B24: PHẠM VĂN HUY | C24: 18004259 | D24: 18C1-CCK7 | E24: 0773838614 | F24: Khoa Cơ khí | G24: Hoạt động giao lưu và ngoại khóa | H24: x
A25: =A24+1 -> 17 | B25: VÕ TRẦN NHẬT NAM | C25: 19002956 | D25: 19C1-TĐH1 | E25: 0375632596 | F25: Khoa Điện - Điện tử | G25: Hoạt động giao lưu và ngoại khóa
A26: 17 | B26: SALAMÁCH ISA | C26: 19000114 | D26: 19T4-CNÔ5 | E26: 0326731487 | F26: Khoa Động lực | G26: Hoạt động giao lưu và ngoại khóa
A27: 18 | B27: TRẦN ĐÌNH MẪN | C27: 18002396 | D27: 18C1-CNO11 | E27: 0392710973 | F27: Khoa Động lực | G27: Hoạt động giao lưu và ngoại khóa
A28: =A27+1 -> 19 | B28: TRẦN NGỌC MINH | C28: 18002393 | D28: 18C1-CNO11 | E28: 0399024159 | F28: Khoa Động lực | G28: Hoạt động giao lưu và ngoại khóa
A29: 19 | B29: LÊ TÙNG TRUYỂN | C29: 19002580 | D29: 19C1-CNÔ8 | E29: 0961034423 | F29: Khoa Động lực | G29: Hoạt động giao lưu và ngoại khóa
A30: 20 | B30: LÝ HỒNG TUYẾT SƯƠNG | C30: 18000079 | D30: 18T4-QTD1 | E30: 0988097748 | F30: Khoa Kinh tế | G30: Hoạt động giao lưu và ngoại khóa
A31: =A30+1 -> 21 | B31: TRƯƠNG NGỌC TRÂN CHÂU | C31: 19001810 | D31: 19T4-LGT1 | E31: 0965155243 | F31: Khoa Kinh tế | G31: Hoạt động giao lưu và ngoại khóa
A32: 22 | B32: VI NHẬT LINH | C32: 18001238 | D32: 18T4-KTD1 | E32: 0902480750 | F32: Khoa Kinh tế | G32: Hoạt động giao lưu và ngoại khóa
A33: 23 | B33: LÊ THỤC UYÊN | C33: 18005112 | D33: 18T4-KTD1 | E33: 0921010301 | F33: Khoa Kinh tế | G33: Hoạt động giao lưu và ngoại khóa
A34: 24 | B34: NGUYỄN TẠ UYỂN NHI | C34: 19004139 | D34: 19T4 LGT1 | E34: 0977803870 | F34: Khoa Kinh tế | G34: Hoạt động giao lưu và ngoại khóa
A35: =A34+1 -> 25 | B35: PHAN THỊ XUÂN MAI | C35: 18002180 | D35: 18C1-KTD1 | E35: 0937539441 | F35: Khoa Kinh tế | G35: Hoạt động giao lưu và ngoại khóa
A36: 26 | B36: LÊ TÀO TUYẾT NHI | C36: 18005000 | D36: 18C1-KTD1 | E36: 0931155981 | F36: Khoa Kinh tế | G36: Hoạt động giao lưu và ngoại khóa | H36: x
A37: 27 | B37: TẠ THỊ THUỶ TIÊN | C37: 18005339 | D37: 18C1-KTD1 | E37: 0357455971 | F37: Khoa Kinh tế | G37: Hoạt động giao lưu và ngoại khóa | H37: x
A38: 28 | B38: PHẠM TUẤN KHANH | C38: 19000730 | D38: 19T4-LGT1 | E38: 0898438653 | F38: Khoa Kinh tế | G38: Hoạt động giao lưu và ngoại khóa
A39: 29 | B39: PHẠM THỊ QUẾ NHI | C39: 18002391 | D39: 18C1-CNM1 | E39: 0356127990 | F39: Khoa May - Thời trang | G39: Hoạt động giao lưu và ngoại khóa
A40: 30 | B40: NGUYỄN THỊ DUNG | C40: 18000076 | D40: 18C1-CNM1 | E40: 0982149597 | F40: Khoa May - Thời trang | G40: Hoạt động giao lưu và ngoại khóa
A41: 31 | B41: TRẦN THÀNH ĐẠT | C41: 19000783 | D41: 19T4-NNA1 | E41: 0902179469 | F41: Khoa Ngoại ngữ | G41: Hoạt động giao lưu và ngoại khóa
A42: 32 | B42: ĐOÀN THỊ PHỤNG | C42: 18001162 | D42: 18T4-NNA2 | E42: 0938081425 | F42: Khoa Ngoại ngữ | G42: Hoạt động giao lưu và ngoại khóa
A43: 33 | B43: NGUYỄN SONG HUY | C43: 18000823 | D43: 18T4-NNA2 | E43: 0706676211 | F43: Khoa Ngoại ngữ | G43: Hoạt động giao lưu và ngoại khóa
A44: 34 | B44: NGUYỄN SONG HUY | C44: 18000823 | D44: 18T4-NNA2 | E44: 0706676211 | F44: Khoa Ngoại ngữ | G44: Hoạt động giao lưu và ngoại khóa
A45: 35 | B45: ĐỖ PHƯƠNG ANH | C45: 18000924 | D45: 18T4-NNA2 | E45: 0523176447 | F45: Khoa Ngoại ngữ | G45: Hoạt động giao lưu và ngoại khóa
A46: 36 | B46: PHẠM MINH THU | C46: 18000890 | D46: 18T4-NNA2 | E46: 0784552030 | F46: Khoa Ngoại ngữ | G46: Hoạt động giao lưu và ngoại khóa
A47: 37 | B47: TRẦN QUỲNH GIANG | C47: 18002845 | D47: 18T4-NNA2 | E47: 0866614741 | F47: Khoa Ngoại ngữ | G47: Hoạt động giao lưu và ngoại khóa
A48: 38 | B48: PHÙNG THẢO MY | C48: 18000891 | D48: 18T4-NNA2 | E48: 0901953706 | F48: Khoa Ngoại ngữ | G48: Hoạt động giao lưu và ngoại khóa
A49: 39 | B49: PHÙNG THẢO MY | C49: 18000891 | D49: 18T4-NNA2 | E49: 0901953706 | F49: Khoa Ngoại ngữ | G49: Hoạt động giao lưu và ngoại khóa
... A72: 62 | B72: LÊ CÔNG ĐẠT | C72: 19001604 | D72: 19T4-KML1 | E72: 0974550744 | F72: Khoa Nhiệt lạnh | G72: Hoạt động giao lưu và ngoại khóa
